BEGIN:VCALENDAR
VERSION:2.0
METHOD:PUBLISH
PRODID:-//eightway/atendo2//NONSGML v1.0//EN
BEGIN:VEVENT
DTSTAMP:20260419T35840Z
DTSTART:20170603T13000Z
DTEND:20170603T40000Z
LOCATION:Anketell Rd, Kwinana Beach WA 6167, Australia (Perth Motorplex)
UID:3-3
SUMMARY:Custom Cars and Coffee
DESCRIPTION:https://www.hsv-gtsr.com/calendar/custom-cars-and-coffee.3/event?id=3
URL:https://www.hsv-gtsr.com/calendar/custom-cars-and-coffee.3/event?id=3
END:VEVENT
END:VCALENDAR