BEGIN:VCALENDAR
VERSION:2.0
METHOD:PUBLISH
PRODID:-//eightway/atendo2//NONSGML v1.0//EN
BEGIN:VEVENT
DTSTAMP:20260419T21955Z
DTSTART:20170505T20000Z
DTEND:20170506T70000Z
LOCATION:125 Rayhur St, Clayton South VIC 3169, Australia (HSV Clayton)
UID:1-1
SUMMARY:Coming Soon - Your GTSR
DESCRIPTION:https://www.hsv-gtsr.com/calendar/coming-soon-your-gtsr.1/event?id=1
URL:https://www.hsv-gtsr.com/calendar/coming-soon-your-gtsr.1/event?id=1
END:VEVENT
END:VCALENDAR